BEGIN:VCALENDAR
VERSION:2.0
PRODID:-//G&amp;B Comedy - ECPv6.15.18//NONSGML v1.0//EN
CALSCALE:GREGORIAN
METHOD:PUBLISH
X-WR-CALNAME:G&amp;B Comedy
X-ORIGINAL-URL:https://gab-comedy.co.uk
X-WR-CALDESC:Events for G&amp;B Comedy
REFRESH-INTERVAL;VALUE=DURATION:PT1H
X-Robots-Tag:noindex
X-PUBLISHED-TTL:PT1H
BEGIN:VTIMEZONE
TZID:UTC
BEGIN:STANDARD
TZOFFSETFROM:+0000
TZOFFSETTO:+0000
TZNAME:UTC
DTSTART:20240101T000000
END:STANDARD
END:VTIMEZONE
BEGIN:VEVENT
DTSTART;TZID=UTC:20250903T193000
DTEND;TZID=UTC:20250903T223000
DTSTAMP:20260425T163239
CREATED:20250827T155939Z
LAST-MODIFIED:20250827T155939Z
UID:5174-1756927800-1756938600@gab-comedy.co.uk
SUMMARY:G&B Wednesdays at The Bell
DESCRIPTION:We’re at The Bell on September 3rd and headlining we have the master of utter mayhem\, the bonkers that is Moss (aka James Watkins) and the fabulously funny Roy Michael.
URL:https://gab-comedy.co.uk/event/gb-wednesdays-at-the-bell-47/
LOCATION:The Bell\, Tuesdays & Wednesdays\, 50 Middlesex Street\, London\, London\, E1 7EXU\, United Kingdom
CATEGORIES:live comedy,Magic,The Bell
ATTACH;FMTTYPE=image/jpeg:https://gab-comedy.co.uk/wp-content/uploads/2025/08/September-3rd-scaled-e1756310282966.jpg
END:VEVENT
BEGIN:VEVENT
DTSTART;TZID=UTC:20250908T193000
DTEND;TZID=UTC:20250908T223000
DTSTAMP:20260425T163239
CREATED:20250827T163451Z
LAST-MODIFIED:20250827T163451Z
UID:5184-1757359800-1757370600@gab-comedy.co.uk
SUMMARY:G&B Mondays at The Star of Kings
DESCRIPTION:Headlining at The Star of Kings on September 8th we’ve the simply fabulous\, utterly hilarious Martina O’Sullivan.\n 
URL:https://gab-comedy.co.uk/event/gb-mondays-at-the-star-of-kings-71/
LOCATION:The Star of Kings\, Sunday afternoons and Monday evenings.\, Star Of Kings\, 126 York Way\, London\, N1 0AX\, United Kingdom
CATEGORIES:live comedy,Magic,Star of Kings
ATTACH;FMTTYPE=image/jpeg:https://gab-comedy.co.uk/wp-content/uploads/2025/08/September-8th-e1756312459128.jpg
END:VEVENT
BEGIN:VEVENT
DTSTART;TZID=UTC:20250910T193000
DTEND;TZID=UTC:20250910T223000
DTSTAMP:20260425T163239
CREATED:20250827T164229Z
LAST-MODIFIED:20250827T164229Z
UID:5187-1757532600-1757543400@gab-comedy.co.uk
SUMMARY:G&B Wednesdays at The Bell
DESCRIPTION:Headlining at The Bell on September 10th we’ve the comedy giant that is the hilarious Pete Kinsella and the fabulously grumpy Tony Carr.
URL:https://gab-comedy.co.uk/event/gb-wednesdays-at-the-bell-48/
LOCATION:The Bell\, Tuesdays & Wednesdays\, 50 Middlesex Street\, London\, London\, E1 7EXU\, United Kingdom
CATEGORIES:live comedy,Magic,The Bell
ATTACH;FMTTYPE=image/jpeg:https://gab-comedy.co.uk/wp-content/uploads/2025/08/September-10th-scaled-e1756312897302.jpg
END:VEVENT
BEGIN:VEVENT
DTSTART;TZID=UTC:20250918T193000
DTEND;TZID=UTC:20250918T223000
DTSTAMP:20260425T163239
CREATED:20250829T184145Z
LAST-MODIFIED:20250831T175628Z
UID:5236-1758223800-1758234600@gab-comedy.co.uk
SUMMARY:G&B Thursdays at The Royal George (Soho)
DESCRIPTION:Headlining at Royal George Charing Cross Road on September 18th we’ve the outrageous magical mayhem of the hilarious Stuart Turner and the fabulously funny Mj Hunter.
URL:https://gab-comedy.co.uk/event/gb-thursdays-at-the-royal-george-soho-75/
LOCATION:Royal George\, Thursdays\, 133 Charing Cross Road\, London\, WC2H 0EA\, United Kingdom
CATEGORIES:live comedy,Magic,Royal George
ATTACH;FMTTYPE=image/png:https://gab-comedy.co.uk/wp-content/uploads/2025/08/September-18th-scaled-e1756492454285.png
END:VEVENT
BEGIN:VEVENT
DTSTART;TZID=UTC:20250930T190000
DTEND;TZID=UTC:20250930T223000
DTSTAMP:20260425T163239
CREATED:20250827T200207Z
LAST-MODIFIED:20250916T084648Z
UID:5202-1759258800-1759271400@gab-comedy.co.uk
SUMMARY:G&B Comedy's 2\,000th Show!
DESCRIPTION:It’s gonna be an awesome night of comedy\, magic\, surprises and more for you on September 30th at The Phoenix\, Cavendish Square. The first 40 people through the door will get a G&B scratch card\, where everyone wins a prize! On stage you’ll have an incredible line-up of G&B faces old and new\, including the amazing talents of The 2023 Leicester Square Comedian of The Year\, Sallyann Fellowes; the 2025 Fringe Comedian of the year\, Joe da Costa; and the utterly glorious surreality of the brilliant \, Steve Vertigo. 
URL:https://gab-comedy.co.uk/event/gb-comedys-2000th-show/
LOCATION:The Phoenix Club\, Cavendish Square\, London\, W1G 0PP\, United Kingdom
CATEGORIES:Illusion,live comedy,Magic
ATTACH;FMTTYPE=image/jpeg:https://gab-comedy.co.uk/wp-content/uploads/2025/08/2000th-headlioners-e1758011812503.jpg
END:VEVENT
END:VCALENDAR