BEGIN:VCALENDAR
VERSION:2.0
PRODID:-//G&amp;B Comedy - ECPv6.15.18//NONSGML v1.0//EN
CALSCALE:GREGORIAN
METHOD:PUBLISH
X-ORIGINAL-URL:https://gab-comedy.co.uk
X-WR-CALDESC:Events for G&amp;B Comedy
REFRESH-INTERVAL;VALUE=DURATION:PT1H
X-Robots-Tag:noindex
X-PUBLISHED-TTL:PT1H
BEGIN:VTIMEZONE
TZID:UTC
BEGIN:STANDARD
TZOFFSETFROM:+0000
TZOFFSETTO:+0000
TZNAME:UTC
DTSTART:20240101T000000
END:STANDARD
END:VTIMEZONE
BEGIN:VEVENT
DTSTART;TZID=UTC:20250309T153000
DTEND;TZID=UTC:20250309T183000
DTSTAMP:20260426T021549
CREATED:20250224T220525Z
LAST-MODIFIED:20250224T220525Z
UID:4653-1741534200-1741545000@gab-comedy.co.uk
SUMMARY:G&B Sunday afternoons at The Star of Kings
DESCRIPTION:Headlining Sunday afternoon at The Star of Kings on March 9th we have the fabulous magical mayhem of the hilarious Stuart Turner.
URL:https://gab-comedy.co.uk/event/gb-sunday-afternoons-at-the-star-of-kings-68/
LOCATION:The Star of Kings\, Sunday afternoons and Monday evenings.\, Star Of Kings\, 126 York Way\, London\, N1 0AX\, United Kingdom
CATEGORIES:Magic,Star of Kings,Sunday comedy
ATTACH;FMTTYPE=image/jpeg:https://gab-comedy.co.uk/wp-content/uploads/2024/06/Stu-Turner-1.jpg
END:VEVENT
END:VCALENDAR