BEGIN:VCALENDAR
VERSION:2.0
PRODID:-//G&amp;B Comedy - ECPv6.15.18//NONSGML v1.0//EN
CALSCALE:GREGORIAN
METHOD:PUBLISH
X-WR-CALNAME:G&amp;B Comedy
X-ORIGINAL-URL:https://gab-comedy.co.uk
X-WR-CALDESC:Events for G&amp;B Comedy
REFRESH-INTERVAL;VALUE=DURATION:PT1H
X-Robots-Tag:noindex
X-PUBLISHED-TTL:PT1H
BEGIN:VTIMEZONE
TZID:UTC
BEGIN:STANDARD
TZOFFSETFROM:+0000
TZOFFSETTO:+0000
TZNAME:UTC
DTSTART:20240101T000000
END:STANDARD
END:VTIMEZONE
BEGIN:VEVENT
DTSTART;TZID=UTC:20250828T193000
DTEND;TZID=UTC:20250828T223000
DTSTAMP:20260425T194326
CREATED:20250827T155132Z
LAST-MODIFIED:20250827T155132Z
UID:5171-1756409400-1756420200@gab-comedy.co.uk
SUMMARY:G&B Thursdays at The Royal George (Soho)
DESCRIPTION:Our final show of summer on August 28th at Royal George Charing Cross Road has a fabulous line-up for you. Headlining we have the brilliant Richard Wheatley and the hilarious Seam Anderson.
URL:https://gab-comedy.co.uk/event/gb-thursdays-at-the-royal-george-soho-71/
LOCATION:Royal George\, Thursdays\, 133 Charing Cross Road\, London\, WC2H 0EA\, United Kingdom
CATEGORIES:live comedy,Magic,Royal George
ATTACH;FMTTYPE=image/png:https://gab-comedy.co.uk/wp-content/uploads/2025/08/August-28th-scaled-e1756309779245.png
END:VEVENT
END:VCALENDAR