BEGIN:VCALENDAR
VERSION:2.0
PRODID:-//G&amp;B Comedy - ECPv6.15.18//NONSGML v1.0//EN
CALSCALE:GREGORIAN
METHOD:PUBLISH
X-WR-CALNAME:G&amp;B Comedy
X-ORIGINAL-URL:https://gab-comedy.co.uk
X-WR-CALDESC:Events for G&amp;B Comedy
REFRESH-INTERVAL;VALUE=DURATION:PT1H
X-Robots-Tag:noindex
X-PUBLISHED-TTL:PT1H
BEGIN:VTIMEZONE
TZID:UTC
BEGIN:STANDARD
TZOFFSETFROM:+0000
TZOFFSETTO:+0000
TZNAME:UTC
DTSTART:20240101T000000
END:STANDARD
END:VTIMEZONE
BEGIN:VEVENT
DTSTART;TZID=UTC:20250910T193000
DTEND;TZID=UTC:20250910T223000
DTSTAMP:20260425T180506
CREATED:20250827T164229Z
LAST-MODIFIED:20250827T164229Z
UID:5187-1757532600-1757543400@gab-comedy.co.uk
SUMMARY:G&B Wednesdays at The Bell
DESCRIPTION:Headlining at The Bell on September 10th we’ve the comedy giant that is the hilarious Pete Kinsella and the fabulously grumpy Tony Carr.
URL:https://gab-comedy.co.uk/event/gb-wednesdays-at-the-bell-48/
LOCATION:The Bell\, Tuesdays & Wednesdays\, 50 Middlesex Street\, London\, London\, E1 7EXU\, United Kingdom
CATEGORIES:live comedy,Magic,The Bell
ATTACH;FMTTYPE=image/jpeg:https://gab-comedy.co.uk/wp-content/uploads/2025/08/September-10th-scaled-e1756312897302.jpg
END:VEVENT
END:VCALENDAR