BEGIN:VCALENDAR
VERSION:2.0
PRODID:-//G&amp;B Comedy - ECPv6.15.18//NONSGML v1.0//EN
CALSCALE:GREGORIAN
METHOD:PUBLISH
X-ORIGINAL-URL:https://gab-comedy.co.uk
X-WR-CALDESC:Events for G&amp;B Comedy
REFRESH-INTERVAL;VALUE=DURATION:PT1H
X-Robots-Tag:noindex
X-PUBLISHED-TTL:PT1H
BEGIN:VTIMEZONE
TZID:UTC
BEGIN:STANDARD
TZOFFSETFROM:+0000
TZOFFSETTO:+0000
TZNAME:UTC
DTSTART:20240101T000000
END:STANDARD
END:VTIMEZONE
BEGIN:VEVENT
DTSTART;TZID=UTC:20250918T193000
DTEND;TZID=UTC:20250918T223000
DTSTAMP:20260425T180649
CREATED:20250829T184145Z
LAST-MODIFIED:20250831T175628Z
UID:5236-1758223800-1758234600@gab-comedy.co.uk
SUMMARY:G&B Thursdays at The Royal George (Soho)
DESCRIPTION:Headlining at Royal George Charing Cross Road on September 18th we’ve the outrageous magical mayhem of the hilarious Stuart Turner and the fabulously funny Mj Hunter.
URL:https://gab-comedy.co.uk/event/gb-thursdays-at-the-royal-george-soho-75/
LOCATION:Royal George\, Thursdays\, 133 Charing Cross Road\, London\, WC2H 0EA\, United Kingdom
CATEGORIES:live comedy,Magic,Royal George
ATTACH;FMTTYPE=image/png:https://gab-comedy.co.uk/wp-content/uploads/2025/08/September-18th-scaled-e1756492454285.png
END:VEVENT
END:VCALENDAR