BEGIN:VCALENDAR
VERSION:2.0
PRODID:-//G&amp;B Comedy - ECPv6.15.18//NONSGML v1.0//EN
CALSCALE:GREGORIAN
METHOD:PUBLISH
X-ORIGINAL-URL:https://gab-comedy.co.uk
X-WR-CALDESC:Events for G&amp;B Comedy
REFRESH-INTERVAL;VALUE=DURATION:PT1H
X-Robots-Tag:noindex
X-PUBLISHED-TTL:PT1H
BEGIN:VTIMEZONE
TZID:UTC
BEGIN:STANDARD
TZOFFSETFROM:+0000
TZOFFSETTO:+0000
TZNAME:UTC
DTSTART:20250101T000000
END:STANDARD
END:VTIMEZONE
BEGIN:VEVENT
DTSTART;TZID=UTC:20260122T193000
DTEND;TZID=UTC:20260122T223000
DTSTAMP:20260426T022146
CREATED:20251223T233312Z
LAST-MODIFIED:20251223T233312Z
UID:5585-1769110200-1769121000@gab-comedy.co.uk
SUMMARY:G&B Thursdays at Royal George (Soho)
DESCRIPTION:Headlining at Royal George Charing Cross Road on January 22nd we’ve the simply brilliant Declan Evans and the utterly hilarious Rich Bunn.
URL:https://gab-comedy.co.uk/event/gb-thursdays-at-royal-george-soho-3/
LOCATION:Royal George\, Thursdays\, 133 Charing Cross Road\, London\, WC2H 0EA\, United Kingdom
CATEGORIES:Royal George
ATTACH;FMTTYPE=image/png:https://gab-comedy.co.uk/wp-content/uploads/2025/12/Jan-22nd-scaled-e1766532757112.png
END:VEVENT
END:VCALENDAR