BEGIN:VCALENDAR
VERSION:2.0
PRODID:-//G&amp;B Comedy - ECPv6.15.18//NONSGML v1.0//EN
CALSCALE:GREGORIAN
METHOD:PUBLISH
X-ORIGINAL-URL:https://gab-comedy.co.uk
X-WR-CALDESC:Events for G&amp;B Comedy
REFRESH-INTERVAL;VALUE=DURATION:PT1H
X-Robots-Tag:noindex
X-PUBLISHED-TTL:PT1H
BEGIN:VTIMEZONE
TZID:UTC
BEGIN:STANDARD
TZOFFSETFROM:+0000
TZOFFSETTO:+0000
TZNAME:UTC
DTSTART:20250101T000000
END:STANDARD
END:VTIMEZONE
BEGIN:VEVENT
DTSTART;TZID=UTC:20260205T193000
DTEND;TZID=UTC:20260205T223000
DTSTAMP:20260426T015003
CREATED:20251225T002748Z
LAST-MODIFIED:20251225T002748Z
UID:5588-1770319800-1770330600@gab-comedy.co.uk
SUMMARY:G&B Thursdays at The Royal George (Soho)
DESCRIPTION:February 5th at Royal George Charing Cross Road has two awesome headliners for your entertainment. Closing the first half we’ve the simply brilliant Richard Wheatley and then closing the show we’ve the fabulously funny Phil Green.
URL:https://gab-comedy.co.uk/event/gb-thursdays-at-the-royal-george-soho-83/
LOCATION:Royal George\, Thursdays\, 133 Charing Cross Road\, London\, WC2H 0EA\, United Kingdom
CATEGORIES:Royal George
ATTACH;FMTTYPE=image/png:https://gab-comedy.co.uk/wp-content/uploads/2025/12/Feb-5th-scaled-e1766622421892.png
END:VEVENT
END:VCALENDAR